BEGIN:VCALENDAR
VERSION:2.0
PRODID:spatie/icalendar-generator
DESCRIPTION:Events from Adult and Teen Challenge | Life Challenge Ministrie
 s
X-WR-CALDESC:Events from Adult and Teen Challenge | Life Challenge Ministri
 es
REFRESH-INTERVAL;VALUE=DURATION:PT1440M
X-PUBLISHED-TTL:PT1440M
BEGIN:VTIMEZONE
TZID:America/Detroit
BEGIN:STANDARD
DTSTART:20231105T020000Z
TZOFFSETFROM:-0400
TZOFFSETTO:-0500
END:STANDARD
BEGIN:DAYLIGHT
DTSTART:20240310T020000Z
TZOFFSETFROM:-0500
TZOFFSETTO:-0400
END:DAYLIGHT
BEGIN:STANDARD
DTSTART:20241103T020000Z
TZOFFSETFROM:-0400
TZOFFSETTO:-0500
END:STANDARD
END:VTIMEZONE
BEGIN:VTIMEZONE
TZID:UTC
BEGIN:STANDARD
DTSTART:20250725T154809Z
TZOFFSETFROM:+0000
TZOFFSETTO:+0000
END:STANDARD
END:VTIMEZONE
BEGIN:VEVENT
UID:37-32
DTSTAMP:20260421T154809Z
SUMMARY:Detroit Campus- 2 Softball Games in Hines Park - Field HAG. B
LOCATION:Hines Park - Haggerty B Field - NE Corner of Hines Drive and Hagge
 rty Rd. See Map Under Read More
ORGANIZER;CN=Colin Richardson:MAILTO:crichardson@lcministries.org
DTSTART;TZID=America/Detroit:20240520T181500
DTEND;TZID=America/Detroit:20240520T204500
X-ALT-DESC;FMTTYPE=TEXT/HTML:Haggerty East Field 1st Game Away Connections 
 vs. Life Challenge 2nd Game Home Life Challenge vs. Connections &amp;nbsp\;
CATEGORIES:Softball Game
URL;VALUE=URI:https://lcministries.org/mc-events/detroit-campus-2-softball-
 games-in-hines-park-field-hag-b/?mc_id=37
END:VEVENT
END:VCALENDAR