BEGIN:VCALENDAR
VERSION:2.0
PRODID:spatie/icalendar-generator
DESCRIPTION:Events from Adult and Teen Challenge | Life Challenge Ministrie
 s
X-WR-CALDESC:Events from Adult and Teen Challenge | Life Challenge Ministri
 es
REFRESH-INTERVAL;VALUE=DURATION:PT1440M
X-PUBLISHED-TTL:PT1440M
BEGIN:VTIMEZONE
TZID:America/Detroit
BEGIN:STANDARD
DTSTART:20241103T020000Z
TZOFFSETFROM:-0400
TZOFFSETTO:-0500
END:STANDARD
BEGIN:DAYLIGHT
DTSTART:20250309T020000Z
TZOFFSETFROM:-0500
TZOFFSETTO:-0400
END:DAYLIGHT
END:VTIMEZONE
BEGIN:VTIMEZONE
TZID:UTC
BEGIN:STANDARD
DTSTART:20250725T125612Z
TZOFFSETFROM:+0000
TZOFFSETTO:+0000
END:STANDARD
END:VTIMEZONE
BEGIN:VEVENT
UID:35-30
DTSTAMP:20260421T125612Z
SUMMARY:Detroit Campus - Ann Arbor Assembly of God
LOCATION:Ann Arbor Assembly of God 2455 Washtenaw Ave  Ann Arbor MI 48104
ORGANIZER;CN=Colin Richardson:MAILTO:crichardson@lcministries.org
DTSTART;TZID=America/Detroit:20241208T101500
DTEND;TZID=America/Detroit:20241208T111500
X-ALT-DESC;FMTTYPE=TEXT/HTML:
CATEGORIES:Rally
URL;VALUE=URI:https://lcministries.org/mc-events/detroit-campus-ann-arbor-a
 ssembly-of-god-2/?mc_id=35
END:VEVENT
END:VCALENDAR