BEGIN:VCALENDAR
VERSION:2.0
PRODID:spatie/icalendar-generator
DESCRIPTION:Events from Adult and Teen Challenge | Life Challenge Ministrie
 s
X-WR-CALDESC:Events from Adult and Teen Challenge | Life Challenge Ministri
 es
REFRESH-INTERVAL;VALUE=DURATION:PT1440M
X-PUBLISHED-TTL:PT1440M
BEGIN:VTIMEZONE
TZID:America/Detroit
BEGIN:DAYLIGHT
DTSTART:20240310T020000Z
TZOFFSETFROM:-0500
TZOFFSETTO:-0400
END:DAYLIGHT
BEGIN:STANDARD
DTSTART:20241103T020000Z
TZOFFSETFROM:-0400
TZOFFSETTO:-0500
END:STANDARD
BEGIN:DAYLIGHT
DTSTART:20250309T020000Z
TZOFFSETFROM:-0500
TZOFFSETTO:-0400
END:DAYLIGHT
END:VTIMEZONE
BEGIN:VTIMEZONE
TZID:UTC
BEGIN:STANDARD
DTSTART:20250725T090614Z
TZOFFSETFROM:+0000
TZOFFSETTO:+0000
END:STANDARD
END:VTIMEZONE
BEGIN:VEVENT
UID:29-27
DTSTAMP:20260421T090614Z
SUMMARY:Flint Campus - Flushing New Life Assembly of God
LOCATION:Flushing New Life Assembly of God 8240 Carpenter Rd.  Flushing MI 
 48433
ORGANIZER;CN=Colin Richardson:MAILTO:crichardson@lcministries.org
DTSTART;TZID=America/Detroit:20241103T100000
DTEND;TZID=America/Detroit:20241103T110000
X-ALT-DESC;FMTTYPE=TEXT/HTML:
CATEGORIES:Rally
URL;VALUE=URI:https://lcministries.org/mc-events/flint-campus-flushing-new-
 life-assembly-of-god/?mc_id=29
END:VEVENT
END:VCALENDAR