BEGIN:VCALENDAR
VERSION:2.0
PRODID:spatie/icalendar-generator
DESCRIPTION:Events from Adult and Teen Challenge | Life Challenge Ministrie
 s
X-WR-CALDESC:Events from Adult and Teen Challenge | Life Challenge Ministri
 es
REFRESH-INTERVAL;VALUE=DURATION:PT1440M
X-PUBLISHED-TTL:PT1440M
BEGIN:VTIMEZONE
TZID:America/Detroit
BEGIN:STANDARD
DTSTART:20241103T020000Z
TZOFFSETFROM:-0400
TZOFFSETTO:-0500
END:STANDARD
BEGIN:DAYLIGHT
DTSTART:20250309T020000Z
TZOFFSETFROM:-0500
TZOFFSETTO:-0400
END:DAYLIGHT
BEGIN:STANDARD
DTSTART:20251102T020000Z
TZOFFSETFROM:-0400
TZOFFSETTO:-0500
END:STANDARD
END:VTIMEZONE
BEGIN:VTIMEZONE
TZID:UTC
BEGIN:STANDARD
DTSTART:20250725T203124Z
TZOFFSETFROM:+0000
TZOFFSETTO:+0000
END:STANDARD
END:VTIMEZONE
BEGIN:VEVENT
UID:94-84
DTSTAMP:20260421T203124Z
SUMMARY:Detroit Campus - Cornerstone Evangelical Presbyterian Church
LOCATION:Cornerstone Evangelical Presbyterian Church 9455 Hilton Rd.  Brigh
 ton MI 48114
ORGANIZER;CN=Colin Richardson:MAILTO:crichardson@lcministries.org
DTSTART;TZID=America/Detroit:20250608T090000
DTEND;TZID=America/Detroit:20250608T120000
X-ALT-DESC;FMTTYPE=TEXT/HTML:Two Services 9AM and 10:45AM.
CATEGORIES:Rally
URL;VALUE=URI:https://lcministries.org/mc-events/detroit-campus-cornerstone
 -evangelical-presbyterian-church/?mc_id=94
END:VEVENT
END:VCALENDAR