BEGIN:VCALENDAR
VERSION:2.0
PRODID:spatie/icalendar-generator
DESCRIPTION:Events from Adult and Teen Challenge | Life Challenge Ministrie
 s
X-WR-CALDESC:Events from Adult and Teen Challenge | Life Challenge Ministri
 es
REFRESH-INTERVAL;VALUE=DURATION:PT1440M
X-PUBLISHED-TTL:PT1440M
BEGIN:VTIMEZONE
TZID:America/Detroit
BEGIN:DAYLIGHT
DTSTART:20250309T020000Z
TZOFFSETFROM:-0500
TZOFFSETTO:-0400
END:DAYLIGHT
BEGIN:STANDARD
DTSTART:20251102T020000Z
TZOFFSETFROM:-0400
TZOFFSETTO:-0500
END:STANDARD
END:VTIMEZONE
BEGIN:VTIMEZONE
TZID:UTC
BEGIN:STANDARD
DTSTART:20250725T154156Z
TZOFFSETFROM:+0000
TZOFFSETTO:+0000
END:STANDARD
END:VTIMEZONE
BEGIN:VEVENT
UID:93-31
DTSTAMP:20260421T154156Z
SUMMARY:Detroit Campus - River of Life
LOCATION:River of Life 16650 Sumpter Rd  Belleville MI 48111
ORGANIZER;CN=Colin Richardson:MAILTO:crichardson@lcministries.org
DTSTART;TZID=America/Detroit:20250824T103000
DTEND;TZID=America/Detroit:20250824T123000
X-ALT-DESC;FMTTYPE=TEXT/HTML:
CATEGORIES:Rally
URL;VALUE=URI:https://lcministries.org/mc-events/detroit-campus-river-of-li
 fe/?mc_id=93
END:VEVENT
END:VCALENDAR